BEGIN:VCALENDAR
VERSION:2.0
PRODID:-//Regina Carmelului - ECPv6.15.12.2//NONSGML v1.0//EN
CALSCALE:GREGORIAN
METHOD:PUBLISH
X-ORIGINAL-URL:https://carmelitanisnagov.ro
X-WR-CALDESC:Evenimente pentru Regina Carmelului
REFRESH-INTERVAL;VALUE=DURATION:PT1H
X-Robots-Tag:noindex
X-PUBLISHED-TTL:PT1H
BEGIN:VTIMEZONE
TZID:Europe/Bucharest
BEGIN:DAYLIGHT
TZOFFSETFROM:+0200
TZOFFSETTO:+0300
TZNAME:EEST
DTSTART:20200329T010000
END:DAYLIGHT
BEGIN:STANDARD
TZOFFSETFROM:+0300
TZOFFSETTO:+0200
TZNAME:EET
DTSTART:20201025T010000
END:STANDARD
BEGIN:DAYLIGHT
TZOFFSETFROM:+0200
TZOFFSETTO:+0300
TZNAME:EEST
DTSTART:20210328T010000
END:DAYLIGHT
BEGIN:STANDARD
TZOFFSETFROM:+0300
TZOFFSETTO:+0200
TZNAME:EET
DTSTART:20211031T010000
END:STANDARD
BEGIN:DAYLIGHT
TZOFFSETFROM:+0200
TZOFFSETTO:+0300
TZNAME:EEST
DTSTART:20220327T010000
END:DAYLIGHT
BEGIN:STANDARD
TZOFFSETFROM:+0300
TZOFFSETTO:+0200
TZNAME:EET
DTSTART:20221030T010000
END:STANDARD
END:VTIMEZONE
BEGIN:VEVENT
DTSTART;VALUE=DATE:20210523
DTEND;VALUE=DATE:20210524
DTSTAMP:20260425T062357
CREATED:20200530T223401Z
LAST-MODIFIED:20210612T080750Z
UID:32612-1621728000-1621814399@carmelitanisnagov.ro
SUMMARY:Solemnitatea Coborârii Duhului Sfânt - Rusaliile
DESCRIPTION:Liturghiile la Sanctuar se vor celebra la orele 11.00 și 19.00.
URL:https://carmelitanisnagov.ro/event/solemnitatea-coborarii-duhului-sfant-rusaliile/
CATEGORIES:Sărbători
ATTACH;FMTTYPE=image/jpeg:https://carmelitanisnagov.ro/wp-content/uploads/2020/05/IMG_5240aaa-scaled-e1590878152920.jpg
END:VEVENT
END:VCALENDAR