BEGIN:VCALENDAR
VERSION:2.0
PRODID:-//Regina Carmelului - ECPv6.15.12.2//NONSGML v1.0//EN
CALSCALE:GREGORIAN
METHOD:PUBLISH
X-WR-CALNAME:Regina Carmelului
X-ORIGINAL-URL:https://carmelitanisnagov.ro
X-WR-CALDESC:Evenimente pentru Regina Carmelului
REFRESH-INTERVAL;VALUE=DURATION:PT1H
X-Robots-Tag:noindex
X-PUBLISHED-TTL:PT1H
BEGIN:VTIMEZONE
TZID:Europe/Bucharest
BEGIN:DAYLIGHT
TZOFFSETFROM:+0200
TZOFFSETTO:+0300
TZNAME:EEST
DTSTART:20210328T010000
END:DAYLIGHT
BEGIN:STANDARD
TZOFFSETFROM:+0300
TZOFFSETTO:+0200
TZNAME:EET
DTSTART:20211031T010000
END:STANDARD
BEGIN:DAYLIGHT
TZOFFSETFROM:+0200
TZOFFSETTO:+0300
TZNAME:EEST
DTSTART:20220327T010000
END:DAYLIGHT
BEGIN:STANDARD
TZOFFSETFROM:+0300
TZOFFSETTO:+0200
TZNAME:EET
DTSTART:20221030T010000
END:STANDARD
BEGIN:DAYLIGHT
TZOFFSETFROM:+0200
TZOFFSETTO:+0300
TZNAME:EEST
DTSTART:20230326T010000
END:DAYLIGHT
BEGIN:STANDARD
TZOFFSETFROM:+0300
TZOFFSETTO:+0200
TZNAME:EET
DTSTART:20231029T010000
END:STANDARD
END:VTIMEZONE
BEGIN:VEVENT
DTSTART;VALUE=DATE:20220616
DTEND;VALUE=DATE:20220617
DTSTAMP:20260422T075239
CREATED:20220614T122759Z
LAST-MODIFIED:20220617T193813Z
UID:33812-1655337600-1655423999@carmelitanisnagov.ro
SUMMARY:Solemnitatea Trupul și Sângele Domnului - Joia Verde
DESCRIPTION:„O surorile mele\, dacă am înțelege că în timpul în care Speciile Euharistice sunt prezente în noi\, Isus este prezent și lucrează în noi\, nedespărțit de Tatăl și de Duhul Sfânt și deci\, întreaga Sfântă Treime este în noi…” \nSf. Maria Magdalena de Pazzi \nLa Sanctuar\, liturghia se va celebra la 19.15.
URL:https://carmelitanisnagov.ro/event/solemnitatea-trupul-si-sangele-domnului-joia-verde/
CATEGORIES:Sărbători
ATTACH;FMTTYPE=image/jpeg:https://carmelitanisnagov.ro/wp-content/uploads/2022/06/11334129_820390961410540_751900594944475549_o.jpeg
END:VEVENT
END:VCALENDAR