BEGIN:VCALENDAR
VERSION:2.0
PRODID:-//Regina Carmelului - ECPv6.15.12.2//NONSGML v1.0//EN
CALSCALE:GREGORIAN
METHOD:PUBLISH
X-ORIGINAL-URL:https://carmelitanisnagov.ro
X-WR-CALDESC:Evenimente pentru Regina Carmelului
REFRESH-INTERVAL;VALUE=DURATION:PT1H
X-Robots-Tag:noindex
X-PUBLISHED-TTL:PT1H
BEGIN:VTIMEZONE
TZID:Europe/Moscow
BEGIN:STANDARD
TZOFFSETFROM:+0300
TZOFFSETTO:+0300
TZNAME:MSK
DTSTART:20240101T000000
END:STANDARD
END:VTIMEZONE
BEGIN:VEVENT
DTSTART;VALUE=DATE:20250809
DTEND;VALUE=DATE:20250810
DTSTAMP:20260419T165046
CREATED:20170730T043213Z
LAST-MODIFIED:20250824T083730Z
UID:10732-1754697600-1754783999@carmelitanisnagov.ro
SUMMARY:St. Teresa Benedicta a Crucii (Edith Stein) - evreică\, filosof\, călugăriţă carmelitană desculţă\, martiră.
DESCRIPTION:9 august – St. Teresa Benedicta a Crucii (Edith Stein) – evreică\, filosof\, călugăriță carmelitană desculță\, martiră. \n „Mântuitorul Tău stă pe Cruce în fața ta\, cu inima deschisă. Și-a golit tot sângele din ea pentru a câștiga inima ta. Dacă vrei să Îl urmezi…”\n\nEdith Stein s-a născut la Breslau pe 12 octombrie 1891\, într-o familie evreiască. În timpul adolescenței\, își pierde convingerile religioase și la un moment dat cochetează cu ateismul. Studiile universitare strălucite au făcut din ea un filosof remarcat de profesorii și colegii ei.În scurt timp\, lectura vieții Sfintei Tereza de Avila va aduce adevărul în inima și spiritul ei. Începând cu Botezul\, în 1922\, viața sa spirituală se va aprofunda și va influența și activitatea ei de profesoară și educatoare.La 42 ani\, în 1933\, intră în Carmel-ul din Koln\, sub numele de Sora Tereza-Benedicta a Crucii. \nPe 2 august 1942\, este arestată în timpul rugăciunii\, chiar în capela mănăstirii din Echt\, Olanda\, (unde se refugiase împreună cu sora ei Rosa\, în 1938). Oferindu-și viața ca jertfă de ardere-de-tot pentru poporul său\, Israel\, ea moare ca martiră a credinței creștine într-o cameră de gazare din lagărul din Auschwitz\, pe 9 august 1942\, în plină persecuție nazistă. \nDe o inteligență și o cultură excepționale\, numeroasele sale scrieri dovedesc o mare credință și o profundă spiritualitate. \nEa a fost beatificată la Koln de către Sf. pp Ioan Paul II\, pe 1 mai 1987\, pentru „eroismul vieții sale și moartea de martir al credinței”. Biserica o cinstește ca pe „o fiică a lui Israel\, care în timpul persecuțiilor naziste\, a rămas unită\, prin credință și iubire\, cu Domnul Isus Cristos\, crucificat\, precum o catolică adevărată și cu poporul său\, precum o evreică adevărată.” Această predică a pp Ioan Paul II arată recunoașterea importanței poporului evreu și a tradiției ebraice în viața Edithei Stein. \nVa fi mai apoi canonizată tot de pp Ioan Paul II pe 11 octombrie 1998 și proclamată co-patroană a Europei pe 1 octombrie 1999. \n Mai multe despre Sf. Edith Stein…
URL:https://carmelitanisnagov.ro/event/st-teresa-benedicta-a-crucii-edith-stein-evreica-filosof-calugarita-carmelitana-desculta-martira/
CATEGORIES:Sărbători,Sfinți Carmelitani
ATTACH;FMTTYPE=image/jpeg:https://carmelitanisnagov.ro/wp-content/uploads/2017/07/947392_991821847523134_5004947918116422830_n.jpg
END:VEVENT
BEGIN:VEVENT
DTSTART;VALUE=DATE:20250815
DTEND;VALUE=DATE:20250816
DTSTAMP:20260419T165046
CREATED:20170730T044103Z
LAST-MODIFIED:20250824T083744Z
UID:10737-1755216000-1755302399@carmelitanisnagov.ro
SUMMARY:Solemnitatea Adormirii Maicii Domnului
DESCRIPTION:La Sanctuar\, liturghiile solemne se vor celebra la ora 11.00 și 19.00. Sunteți așteptați cu drag!
URL:https://carmelitanisnagov.ro/event/solemnitatea-adormirii-maicii-domnului/
CATEGORIES:Sărbători,Sarbatori Mariane
ATTACH;FMTTYPE=image/jpeg:https://carmelitanisnagov.ro/wp-content/uploads/2017/07/assomption.jpg
END:VEVENT
BEGIN:VEVENT
DTSTART;VALUE=DATE:20250826
DTEND;VALUE=DATE:20250827
DTSTAMP:20260419T165046
CREATED:20180826T092520Z
LAST-MODIFIED:20250901T060535Z
UID:14076-1756166400-1756252799@carmelitanisnagov.ro
SUMMARY:Străpungerea inimii Sfintei Tereza de Avila
DESCRIPTION:26 august – Transverberarea (străpungerea) inimii Sfintei Tereza de Avila \n„Văzui un înger aproape de mine în partea stîngă… Nu era mare\, mai degrabă mic\, foarte frumos\, cu o faţă atît de îmbujorată\, încît semăna cu acei îngeri în culori atît de vii\, care par să se aprindă…Vedeam în mîinile sale o lamă de aur şi în vîrf părea a avea o flacără. Mi se părea că o înfige de mai multe ori în inima mea şi-mi atinge măruntaiele; cînd o retrase mi se păru că aceasta le ia cu ea şi mă lăsă cu totul înflăcărată de o mare iubire a lui Dumnezeu. Durerea era atît de mare încît îmi smulgea suspine şi suavitatea pe care mi-o dădea această mare durere era atît de imensă încît nu puteai decît să-ţi doreşti ca ea să continue şi ca sufletul să nu se mulţumească decît cu Dumnezeu. Aceasta nu era o durere trupească\, ci una spirituală\, chiar dacă trupul participa puţin la ea\, şi chiar foarte puternică. Acesta este un schimb de iubire atît de suav care se petrece între suflet şi Dumnezeu\, încît eu implor bunătatea sa de a-l revela celor care ar gîndi că eu mint…În zilele în care trăiam aceasta\, mergeam ca uluită\, nu doream nici să văd\, nici să vorbesc cu nimeni\, doar să mă înflăcărez în suferinţa mea\, care pentru mine era una dintre cele mai mari onoruri\, din acelea pe care le-au cunoscut slujitorii săi.“ (Viața cap. 29) \n\nTransverberarea (din lat. transverberare) este un fenomen mistic\, rar menţionat şi care desemnează străpungerea spirituală a inimii printr-o săgeată aprinsă (de iubire). Este vorba de o rană fizică provocată de o cauză imaterială. \nDupă moartea sa\, rana inimii Sfintei Tereza a fost văzută în cursul autopsiei\, realizate conform procedurilor medicale în vigoare din secolul al XVI-lea şi a fost recunoscută ca fiind legată de transverberarea sa. (foto : relicariu cu inima Sfintei – Alba de Tormes) \n  \n  \n  \n  \n  \n  \n\n(foto : Extazul Sf. Tereza\, sculptura de Gian Lorenzo Bernini\, deasupra unui altar din biserica Santa Maria della Vittoria – Roma) \n  \n  \n  \n  \n  \n  \n  \nPe 25 mai 1726\, papa Benedict al XIII-lea a stabilit pentru Ordinul Carmelitan\, ziua de 26 august\, ca memorie a acestui eveniment\, o sărbătoare cu oficiu propriu.
URL:https://carmelitanisnagov.ro/event/26-august-strapungerea-inimii-sfintei-tereza-de-avila/
CATEGORIES:Sărbători,Sfinți Carmelitani,Tereza de Avila
ATTACH;FMTTYPE=image/jpeg:https://carmelitanisnagov.ro/wp-content/uploads/2018/08/14079942_525432764328850_684098425611656889_n.jpg
END:VEVENT
END:VCALENDAR